BEGIN:VCALENDAR
VERSION:2.0
PRODID:-//Visit the Sky Islands of Arizona - ECPv6.15.20//NONSGML v1.0//EN
CALSCALE:GREGORIAN
METHOD:PUBLISH
X-ORIGINAL-URL:https://visitskyislands.com
X-WR-CALDESC:Events for Visit the Sky Islands of Arizona
REFRESH-INTERVAL;VALUE=DURATION:PT1H
X-Robots-Tag:noindex
X-PUBLISHED-TTL:PT1H
BEGIN:VTIMEZONE
TZID:America/Phoenix
BEGIN:STANDARD
TZOFFSETFROM:-0700
TZOFFSETTO:-0700
TZNAME:MST
DTSTART:20240101T000000
END:STANDARD
END:VTIMEZONE
BEGIN:VEVENT
DTSTART;TZID=America/Phoenix:20251108T170000
DTEND;TZID=America/Phoenix:20251108T220000
DTSTAMP:20260424T043032
CREATED:20251025T194225Z
LAST-MODIFIED:20251025T194225Z
UID:16730-1762621200-1762639200@visitskyislands.com
SUMMARY:Queen of Cups - Fall Wine Club Party
DESCRIPTION:Our wine club members will enjoy an incredible evening of live music and a light dinner provided by Chef Becky Iwata. The tasting room will be closed to the public starting at 5pm on Saturday\, November 8th. Interested in coming? Join the club!
URL:https://visitskyislands.com/event/queen-of-cups-fall-wine-club-party/
LOCATION:Queen of Cups\, 320 Smelter\, Patagonia\, AZ\, 85624\, United States
CATEGORIES:Wine Club
ATTACH;FMTTYPE=image/webp:https://visitskyislands.com/wp-content/uploads/2025/10/QoC-Harvest-62.webp
END:VEVENT
END:VCALENDAR