BEGIN:VCALENDAR
VERSION:2.0
PRODID:-//Visit the Sky Islands of Arizona - ECPv6.15.20//NONSGML v1.0//EN
CALSCALE:GREGORIAN
METHOD:PUBLISH
X-WR-CALNAME:Visit the Sky Islands of Arizona
X-ORIGINAL-URL:https://visitskyislands.com
X-WR-CALDESC:Events for Visit the Sky Islands of Arizona
REFRESH-INTERVAL;VALUE=DURATION:PT1H
X-Robots-Tag:noindex
X-PUBLISHED-TTL:PT1H
BEGIN:VTIMEZONE
TZID:America/Phoenix
BEGIN:STANDARD
TZOFFSETFROM:-0700
TZOFFSETTO:-0700
TZNAME:MST
DTSTART:20250101T000000
END:STANDARD
END:VTIMEZONE
BEGIN:VEVENT
DTSTART;TZID=America/Phoenix:20260613T170000
DTEND;TZID=America/Phoenix:20260613T190000
DTSTAMP:20260424T021109
CREATED:20260323T003137Z
LAST-MODIFIED:20260323T005603Z
UID:17066-1781370000-1781377200@visitskyislands.com
SUMMARY:Summer Solstice Blending 101
DESCRIPTION:Callaghan Vineyards Tasting Room – $40 per person – Only 20 tickets available\nHow do they do it?  Have you wondered how and why particular types of wines are blended?  Kent Callaghan lifts the veil of mystery at a blind blending class where you make the decisions and create your own masterpiece!  You become the vintner at this educational and interesting event. \nSign up Here
URL:https://visitskyislands.com/event/summer-solstice-blending-101/
LOCATION:Callaghan Vineyards\, 336 Elgin Road\, Elgin\, AZ\, 85624\, United States
CATEGORIES:Wine Class
ATTACH;FMTTYPE=image/png:https://visitskyislands.com/wp-content/uploads/2020/11/callaghanvineyards_logofiles-03-copy-1674591143967.png
END:VEVENT
END:VCALENDAR