BEGIN:VCALENDAR
VERSION:2.0
PRODID:-//Visit the Sky Islands of Arizona - ECPv6.15.20//NONSGML v1.0//EN
CALSCALE:GREGORIAN
METHOD:PUBLISH
X-ORIGINAL-URL:https://visitskyislands.com
X-WR-CALDESC:Events for Visit the Sky Islands of Arizona
REFRESH-INTERVAL;VALUE=DURATION:PT1H
X-Robots-Tag:noindex
X-PUBLISHED-TTL:PT1H
BEGIN:VTIMEZONE
TZID:America/Phoenix
BEGIN:STANDARD
TZOFFSETFROM:-0700
TZOFFSETTO:-0700
TZNAME:MST
DTSTART:20250101T000000
END:STANDARD
END:VTIMEZONE
BEGIN:VEVENT
DTSTART;TZID=America/Phoenix:20260214T090000
DTEND;TZID=America/Phoenix:20260214T170000
DTSTAMP:20260424T171453
CREATED:20251225T230506Z
LAST-MODIFIED:20251225T230506Z
UID:16841-1771059600-1771088400@visitskyislands.com
SUMMARY:Sonoita Vineyards Wine Run 5K
DESCRIPTION:Like Running or Walking? Love Wine? This race is for you! \n\nJoin us on Saturday\, February 14\, 2026 at 9:00am for an exciting annual event that features Sonoita Vineyards! The oldest commercial vineyard and winery in Arizona\, Sonoita Vineyards was started in 1974\, opened in 1983 and now includes over 30 acres of vines. Aided by the unique growing conditions of the Sonoita Appellation (AVA – American Viticultural Area)\, the winery consistently creates award winning wines\, including a Cabernet Sauvignon chosen by national wine critics to serve at a Presidential Inauguration Gala. Perched at an elevation of 5\,000 feet among rolling grasslands\, the vineyard is surrounded on three sides by soaring mountain ranges. With extra swag options for all wine lovers\, walkers and runners\, this race is a sure thing for a great time! This race is timed and scored by J3 Timing. Results will be posted at www.J3Timing.com.
URL:https://visitskyislands.com/event/sonoita-vineyards-wine-run-5k/
LOCATION:Sonoita Vineyards\, 290 Elgin-Canelo Road \, Elgin\, AZ
CATEGORIES:Run
ATTACH;FMTTYPE=image/jpeg:https://visitskyislands.com/wp-content/uploads/2025/12/Sonoita-Vineyards-Wine-Run-5K.jpg
END:VEVENT
END:VCALENDAR