BEGIN:VCALENDAR
VERSION:2.0
PRODID:-//Visit the Sky Islands of Arizona - ECPv6.15.20//NONSGML v1.0//EN
CALSCALE:GREGORIAN
METHOD:PUBLISH
X-ORIGINAL-URL:https://visitskyislands.com
X-WR-CALDESC:Events for Visit the Sky Islands of Arizona
REFRESH-INTERVAL;VALUE=DURATION:PT1H
X-Robots-Tag:noindex
X-PUBLISHED-TTL:PT1H
BEGIN:VTIMEZONE
TZID:America/Phoenix
BEGIN:STANDARD
TZOFFSETFROM:-0700
TZOFFSETTO:-0700
TZNAME:MST
DTSTART:20250101T000000
END:STANDARD
END:VTIMEZONE
BEGIN:VEVENT
DTSTART;TZID=America/Phoenix:20260214T180000
DTEND;TZID=America/Phoenix:20260214T200000
DTSTAMP:20260424T141632
CREATED:20251225T232143Z
LAST-MODIFIED:20251225T232143Z
UID:16865-1771092000-1771099200@visitskyislands.com
SUMMARY:Valentine's Day at Copper Brothel Brewery
DESCRIPTION:💘 Save the Date: Valentine’s Day at Copper Brothel Brewery!Whether you’re celebrating with your sweetheart\, your best friends\, or just treating yourself—join us on Saturday\, February 14th for a festive night of food\, drinks\, and fun. \nMore details to come\, but go ahead and mark your calendar for a Valentine’s Day celebration you won’t want to miss!
URL:https://visitskyislands.com/event/valentines-day-at-copper-brothel-brewery/
LOCATION:Copper Brothel\, 3112 Hwy 83\, Sonoita\, AZ\, 85637
CATEGORIES:Party
ATTACH;FMTTYPE=image/jpeg:https://visitskyislands.com/wp-content/uploads/2025/12/Events_placeholder.jpg
END:VEVENT
BEGIN:VEVENT
DTSTART;TZID=America/Phoenix:20260208T090000
DTEND;TZID=America/Phoenix:20260208T180000
DTSTAMP:20260424T141632
CREATED:20251225T232011Z
LAST-MODIFIED:20260102T003610Z
UID:16862-1770541200-1770573600@visitskyislands.com
SUMMARY:Super Bowl Party 2026
DESCRIPTION:🏈 Save the Date: Super Bowl Sunday at Copper Brothel Brewery!Join us on Sunday\, February 8th\, 2026 for our Super Bowl Party—where great beer meets game day excitement! \nCatch every play while enjoying all-day food and happy hour specials. Mark your calendar and get ready to celebrate Super Bowl Sunday 2026 the Copper Brothel way!
URL:https://visitskyislands.com/event/super-bowl-party-2026/
LOCATION:Copper Brothel\, 3112 Hwy 83\, Sonoita\, AZ\, 85637
CATEGORIES:Party
ATTACH;FMTTYPE=image/jpeg:https://visitskyislands.com/wp-content/uploads/2025/12/Events_placeholder.jpg
END:VEVENT
BEGIN:VEVENT
DTSTART;TZID=America/Phoenix:20260101T110000
DTEND;TZID=America/Phoenix:20260101T130000
DTSTAMP:20260424T141632
CREATED:20251225T231428Z
LAST-MODIFIED:20251225T231428Z
UID:16854-1767265200-1767272400@visitskyislands.com
SUMMARY:New Year’s Day Recovery Party
DESCRIPTION:Join us January 1 for our New Year’s Day Recovery Party featuring a hangover-friendly Bloody Mary bar\, mimosas\, and special food features to help you ease into 2026. \nGrab your crew\, take it slow\, and celebrate the New Year with good drinks\, good food\, and even better vibes. 🍻 \nWe’re open our normal hours with a 🍹🍹 Hangover Bloody Mary Bar and a few New Year specials. \nEasy\, laid-back\, and low-stress.
URL:https://visitskyislands.com/event/new-years-day-recovery-party/
LOCATION:Copper Brothel\, 3112 Hwy 83\, Sonoita\, AZ\, 85637
CATEGORIES:Party
ATTACH;FMTTYPE=image/jpeg:https://visitskyislands.com/wp-content/uploads/2025/12/New-Year-Recovery-Party.jpg
END:VEVENT
END:VCALENDAR