BEGIN:VCALENDAR
VERSION:2.0
PRODID:-//Visit the Sky Islands of Arizona - ECPv6.15.20//NONSGML v1.0//EN
CALSCALE:GREGORIAN
METHOD:PUBLISH
X-ORIGINAL-URL:https://visitskyislands.com
X-WR-CALDESC:Events for Visit the Sky Islands of Arizona
REFRESH-INTERVAL;VALUE=DURATION:PT1H
X-Robots-Tag:noindex
X-PUBLISHED-TTL:PT1H
BEGIN:VTIMEZONE
TZID:America/Phoenix
BEGIN:STANDARD
TZOFFSETFROM:-0700
TZOFFSETTO:-0700
TZNAME:MST
DTSTART:20250101T000000
END:STANDARD
END:VTIMEZONE
BEGIN:VEVENT
DTSTART;TZID=America/Phoenix:20260205T180000
DTEND;TZID=America/Phoenix:20260205T220000
DTSTAMP:20260424T123041
CREATED:20251225T231756Z
LAST-MODIFIED:20251225T231756Z
UID:16860-1770314400-1770328800@visitskyislands.com
SUMMARY:Game Night - Thursday\, February 5\, 2026
DESCRIPTION:Game Night at Copper Brothel Brewery. \nJoin us on the First Thursday of every month for Game Night!
URL:https://visitskyislands.com/event/game-night-thursday-february-5-2026/
LOCATION:Copper Brothel\, 3112 Hwy 83\, Sonoita\, AZ\, 85637
CATEGORIES:Entertainment
ATTACH;FMTTYPE=image/jpeg:https://visitskyislands.com/wp-content/uploads/2025/12/Game_Night_General.jpg
END:VEVENT
BEGIN:VEVENT
DTSTART;TZID=America/Phoenix:20260101T180000
DTEND;TZID=America/Phoenix:20260101T220000
DTSTAMP:20260424T123041
CREATED:20251225T231616Z
LAST-MODIFIED:20251225T231616Z
UID:16857-1767290400-1767304800@visitskyislands.com
SUMMARY:Game Night - Thursday\, January 1\, 2026
DESCRIPTION:Game Night at Copper Brothel Brewery. \nJoin us on the First Thursday of every month for Game Night!
URL:https://visitskyislands.com/event/game-night-thursday-january-1-2026/
LOCATION:Copper Brothel\, 3112 Hwy 83\, Sonoita\, AZ\, 85637
CATEGORIES:Entertainment
ATTACH;FMTTYPE=image/jpeg:https://visitskyislands.com/wp-content/uploads/2025/12/Game_Night_General.jpg
END:VEVENT
END:VCALENDAR