BEGIN:VCALENDAR
VERSION:2.0
PRODID:-//Visit the Sky Islands of Arizona - ECPv6.15.20//NONSGML v1.0//EN
CALSCALE:GREGORIAN
METHOD:PUBLISH
X-ORIGINAL-URL:https://visitskyislands.com
X-WR-CALDESC:Events for Visit the Sky Islands of Arizona
REFRESH-INTERVAL;VALUE=DURATION:PT1H
X-Robots-Tag:noindex
X-PUBLISHED-TTL:PT1H
BEGIN:VTIMEZONE
TZID:America/Phoenix
BEGIN:STANDARD
TZOFFSETFROM:-0700
TZOFFSETTO:-0700
TZNAME:MST
DTSTART:20250101T000000
END:STANDARD
END:VTIMEZONE
BEGIN:VEVENT
DTSTART;TZID=America/Phoenix:20260411T180000
DTEND;TZID=America/Phoenix:20260411T203000
DTSTAMP:20260424T042002
CREATED:20260327T034437Z
LAST-MODIFIED:20260327T034806Z
UID:17089-1775930400-1775939400@visitskyislands.com
SUMMARY:Long Table Dinner at Rune Wines
DESCRIPTION:We’re thrilled to announce our next Long Table Dinner\, featuring French cuisine from around the world! \nJoin us underneath the southern Arizona skies for the latest installment of our Long Table dinner series. On April 11th we are partnering with Chef Marcus van Winden of Atlas Catering Company. \nAs the name suggests\, guests are seated at a long table surrounded by the natural landscape that Rune is known for. Enjoy the sunset and twilight all while being served dinner and wine by our staff. This is truly a special experience and a lovely way to enjoy Rune outside of regular hours.
URL:https://visitskyislands.com/event/long-table-dinner-at-rune-wines/
LOCATION:Rune Wines\, 3969 Highway 82\, Sonoita\, AZ\, 85624
CATEGORIES:Dinner
ATTACH;FMTTYPE=image/jpeg:https://visitskyislands.com/wp-content/uploads/2026/03/Rune-event.jpg
END:VEVENT
BEGIN:VEVENT
DTSTART;TZID=America/Phoenix:20260117T120000
DTEND;TZID=America/Phoenix:20260117T150000
DTSTAMP:20260424T042002
CREATED:20260101T231710Z
LAST-MODIFIED:20260101T231710Z
UID:16876-1768651200-1768662000@visitskyislands.com
SUMMARY:Lunch at the Queen of Cups
DESCRIPTION:Mark your calendars for dinner on January 16th and lunch on January 17th\, we’ll kick off the year with a TWO day popup by @theambienthues. Chef Deja will be serving up three different stews inspired by places all around the world. FRIDAY 6PM and SATURDAY 12PM
URL:https://visitskyislands.com/event/lunch-at-the-queen-of-cups/
LOCATION:Queen of Cups\, 320 Smelter\, Patagonia\, AZ\, 85624\, United States
CATEGORIES:Dinner
ATTACH;FMTTYPE=image/png:https://visitskyislands.com/wp-content/uploads/2026/01/Queen-of-Cups.png
END:VEVENT
BEGIN:VEVENT
DTSTART;TZID=America/Phoenix:20260116T180000
DTEND;TZID=America/Phoenix:20260116T200000
DTSTAMP:20260424T042002
CREATED:20260101T231451Z
LAST-MODIFIED:20260101T231556Z
UID:16872-1768586400-1768593600@visitskyislands.com
SUMMARY:Dinner at the Queen of Cups
DESCRIPTION:Mark your calendars for dinner on January 16th and lunch on January 17th\, we’ll kick off the year with a TWO day popup by @theambienthues. Chef Deja will be serving up three different stews inspired by places all around the world. FRIDAY 6PM and SATURDAY 12PM
URL:https://visitskyislands.com/event/dinner-at-the-queen-of-cups/
LOCATION:Queen of Cups\, 320 Smelter\, Patagonia\, AZ\, 85624\, United States
CATEGORIES:Dinner
ATTACH;FMTTYPE=image/png:https://visitskyislands.com/wp-content/uploads/2026/01/Queen-of-Cups.png
END:VEVENT
END:VCALENDAR